Workbook
Name CATEGORIAS: 'Id Dobles'!$B$4:$B$27
Name CATEGORIAS: 'Id Equipos'!$B$3:$B$25
Name CATEGORIAS: 'Id individual'!$B$3:$B$21
Name damas9: #REF!
Name INDIVIDUALV07: #REF!
Name INDIVIDUALV08: #REF!
Name SERIE1: #REF!
Name serie2: #REF!
Name serie3: #REF!
Name serie4: #REF!
Name SERIE5: #REF!
Name serie6: #REF!
Name SERIES_1_A_4: #REF!
Name SERIESS_4_A_6: #REF!
Name SERIESS_4_A_6: #REF!
Name SERIESS_4_A_6: #REF!
Name SERIESS_4_A_6: #REF!
Name total: #REF!

Sheet Inscripción Individual
A1: XV OPEN INTERNACIONAL AREQUIPA 2026
A2: 8 AL 11 DE OCTUBRE DE 2026
A4: FICHA DE INSCRIPCIÓN | F4: RELLENAR SÓLO LAS CASILLAS EN BLANCO | K4: cat. | M4: adicional | O4: libre | Q4: Toal
B5: Llenar y enviar a: mangerspeed@gmail.com | I5: Inscripción Individual S/ | J5: =SUM(J12:J51) -> 0
D6: Institución | I6: Inscripción Equipos S/ | J6: ='Inscripción Equipos'!J4 -> 0
D7: Abreviatura (3 letras) | I7: Inscripción Dobles S/ | J7: ='Inscripción Dobles'!I4 -> 0
D8: Delegado / Entrenador | I8: Total Inscripción | J8: =SUM(J5:J7) -> 0
D9: Telefono: | J9: =IF(H7="","",J7*1.18)
B10: NOMBRE | C10: Año Nacimiento | D10: Codigo Sisdena | E10: CLUB | G10: CATEGORIA | H10: ADICIONAL | I10: LIBRE | J10: S/.
A11: Por favor utilice el siguiente formato: Nombre Apellido. No escriba todo en mayúsculas
A12: 1 | E12: =IF(B12="","",$E$6) | F12: =IF(E12="","",$E$7) | G12: =IF(K12="","",IF(K12=1,"",LOOKUP(K12,'Id individual'!$A$1:$B$706))) | H12: =IF(N12="","",IF(N12=1,"",LOOKUP(M12,'Id individual'!$A$1:$B$706))) -> 0 | I12: =IF(P12="","",IF(O12=1,"",LOOKUP(O12,'Id individual'!$E$1:$F$706))) | J12: =IF(Q12=0,"",Q12) | K12: 1 | L12: =IF(K12="","",LOOKUP(K12,'Id individual'!$A$1:$C$706)) -> 0 | M12: 1 | N12: =IF(M12="","",LOOKUP(M12,'Id individual'!$A$1:$D$706)) -> 0 | O12: 1 | P12: =IF(O12="","",LOOKUP(O12,'Id individual'!$E$1:$G$706)) -> 0 | Q12: =P12+N12+L12 -> 0
A13: 2 | E13: =IF(B13="","",$E$6) | F13: =IF(E13="","",$E$7) | G13: =IF(K13="","",IF(K13=1,"",LOOKUP(K13,'Id individual'!$A$1:$B$706))) | H13: =IF(N13="","",IF(N13=1,"",LOOKUP(M13,'Id individual'!$A$1:$B$706))) -> 0 | I13: =IF(P13="","",IF(O13=1,"",LOOKUP(O13,'Id individual'!$E$1:$F$706))) | J13: =IF(Q13=0,"",Q13) | K13: 1 | L13: =IF(K13="","",LOOKUP(K13,'Id individual'!$A$1:$C$706)) -> 0 | M13: 1 | N13: =IF(M13="","",LOOKUP(M13,'Id individual'!$A$1:$D$706)) -> 0 | O13: 1 | P13: =IF(O13="","",LOOKUP(O13,'Id individual'!$E$1:$G$706)) -> 0 | Q13: =P13+N13+L13 -> 0
A14: 3 | E14: =IF(B14="","",$E$6) | F14: =IF(E14="","",$E$7) | G14: =IF(K14="","",IF(K14=1,"",LOOKUP(K14,'Id individual'!$A$1:$B$706))) | H14: =IF(N14="","",IF(N14=1,"",LOOKUP(M14,'Id individual'!$A$1:$B$706))) -> 0 | I14: =IF(P14="","",IF(O14=1,"",LOOKUP(O14,'Id individual'!$E$1:$F$706))) | J14: =IF(Q14=0,"",Q14) | K14: 1 | L14: =IF(K14="","",LOOKUP(K14,'Id individual'!$A$1:$C$706)) -> 0 | M14: 1 | N14: =IF(M14="","",LOOKUP(M14,'Id individual'!$A$1:$D$706)) -> 0 | O14: 1 | P14: =IF(O14="","",LOOKUP(O14,'Id individual'!$E$1:$G$706)) -> 0 | Q14: =P14+N14+L14 -> 0
A15: 4 | E15: =IF(B15="","",$E$6) | F15: =IF(E15="","",$E$7) | G15: =IF(K15="","",IF(K15=1,"",LOOKUP(K15,'Id individual'!$A$1:$B$706))) | H15: =IF(N15="","",IF(N15=1,"",LOOKUP(M15,'Id individual'!$A$1:$B$706))) -> 0 | I15: =IF(P15="","",IF(O15=1,"",LOOKUP(O15,'Id individual'!$E$1:$F$706))) | J15: =IF(Q15=0,"",Q15) | K15: 1 | L15: =IF(K15="","",LOOKUP(K15,'Id individual'!$A$1:$C$706)) -> 0 | M15: 1 | N15: =IF(M15="","",LOOKUP(M15,'Id individual'!$A$1:$D$706)) -> 0 | O15: 1 | P15: =IF(O15="","",LOOKUP(O15,'Id individual'!$E$1:$G$706)) -> 0 | Q15: =P15+N15+L15 -> 0
A16: 5 | E16: =IF(B16="","",$E$6) | F16: =IF(E16="","",$E$7) | G16: =IF(K16="","",IF(K16=1,"",LOOKUP(K16,'Id individual'!$A$1:$B$706))) | H16: =IF(N16="","",IF(N16=1,"",LOOKUP(M16,'Id individual'!$A$1:$B$706))) -> 0 | I16: =IF(P16="","",IF(O16=1,"",LOOKUP(O16,'Id individual'!$E$1:$F$706))) | J16: =IF(Q16=0,"",Q16) | K16: 1 | L16: =IF(K16="","",LOOKUP(K16,'Id individual'!$A$1:$C$706)) -> 0 | M16: 1 | N16: =IF(M16="","",LOOKUP(M16,'Id individual'!$A$1:$D$706)) -> 0 | O16: 1 | P16: =IF(O16="","",LOOKUP(O16,'Id individual'!$E$1:$G$706)) -> 0 | Q16: =P16+N16+L16 -> 0
A17: 6 | E17: =IF(B17="","",$E$6) | F17: =IF(E17="","",$E$7) | G17: =IF(K17="","",IF(K17=1,"",LOOKUP(K17,'Id individual'!$A$1:$B$706))) | H17: =IF(N17="","",IF(N17=1,"",LOOKUP(M17,'Id individual'!$A$1:$B$706))) -> 0 | I17: =IF(P17="","",IF(O17=1,"",LOOKUP(O17,'Id individual'!$E$1:$F$706))) | J17: =IF(Q17=0,"",Q17) | K17: 1 | L17: =IF(K17="","",LOOKUP(K17,'Id individual'!$A$1:$C$706)) -> 0 | M17: 1 | N17: =IF(M17="","",LOOKUP(M17,'Id individual'!$A$1:$D$706)) -> 0 | O17: 1 | P17: =IF(O17="","",LOOKUP(O17,'Id individual'!$E$1:$G$706)) -> 0 | Q17: =P17+N17+L17 -> 0
A18: 7 | E18: =IF(B18="","",$E$6) | F18: =IF(E18="","",$E$7) | G18: =IF(K18="","",IF(K18=1,"",LOOKUP(K18,'Id individual'!$A$1:$B$706))) | H18: =IF(N18="","",IF(N18=1,"",LOOKUP(M18,'Id individual'!$A$1:$B$706))) -> 0 | I18: =IF(P18="","",IF(O18=1,"",LOOKUP(O18,'Id individual'!$E$1:$F$706))) | J18: =IF(Q18=0,"",Q18) | K18: 1 | L18: =IF(K18="","",LOOKUP(K18,'Id individual'!$A$1:$C$706)) -> 0 | M18: 1 | N18: =IF(M18="","",LOOKUP(M18,'Id individual'!$A$1:$D$706)) -> 0 | O18: 1 | P18: =IF(O18="","",LOOKUP(O18,'Id individual'!$E$1:$G$706)) -> 0 | Q18: =P18+N18+L18 -> 0
A19: 8 | E19: =IF(B19="","",$E$6) | F19: =IF(E19="","",$E$7) | G19: =IF(K19="","",IF(K19=1,"",LOOKUP(K19,'Id individual'!$A$1:$B$706))) | H19: =IF(N19="","",IF(N19=1,"",LOOKUP(M19,'Id individual'!$A$1:$B$706))) -> 0 | I19: =IF(P19="","",IF(O19=1,"",LOOKUP(O19,'Id individual'!$E$1:$F$706))) | J19: =IF(Q19=0,"",Q19) | K19: 1 | L19: =IF(K19="","",LOOKUP(K19,'Id individual'!$A$1:$C$706)) -> 0 | M19: 1 | N19: =IF(M19="","",LOOKUP(M19,'Id individual'!$A$1:$D$706)) -> 0 | O19: 1 | P19: =IF(O19="","",LOOKUP(O19,'Id individual'!$E$1:$G$706)) -> 0 | Q19: =P19+N19+L19 -> 0
A20: 9 | E20: =IF(B20="","",$E$6) | F20: =IF(E20="","",$E$7) | G20: =IF(K20="","",IF(K20=1,"",LOOKUP(K20,'Id individual'!$A$1:$B$706))) | H20: =IF(N20="","",IF(N20=1,"",LOOKUP(M20,'Id individual'!$A$1:$B$706))) -> 0 | I20: =IF(P20="","",IF(O20=1,"",LOOKUP(O20,'Id individual'!$E$1:$F$706))) | J20: =IF(Q20=0,"",Q20) | K20: 1 | L20: =IF(K20="","",LOOKUP(K20,'Id individual'!$A$1:$C$706)) -> 0 | M20: 1 | N20: =IF(M20="","",LOOKUP(M20,'Id individual'!$A$1:$D$706)) -> 0 | O20: 1 | P20: =IF(O20="","",LOOKUP(O20,'Id individual'!$E$1:$G$706)) -> 0 | Q20: =P20+N20+L20 -> 0
A21: 10 | E21: =IF(B21="","",$E$6) | F21: =IF(E21="","",$E$7) | G21: =IF(K21="","",IF(K21=1,"",LOOKUP(K21,'Id individual'!$A$1:$B$706))) | H21: =IF(N21="","",IF(N21=1,"",LOOKUP(M21,'Id individual'!$A$1:$B$706))) -> 0 | I21: =IF(P21="","",IF(O21=1,"",LOOKUP(O21,'Id individual'!$E$1:$F$706))) | J21: =IF(Q21=0,"",Q21) | K21: 1 | L21: =IF(K21="","",LOOKUP(K21,'Id individual'!$A$1:$C$706)) -> 0 | M21: 1 | N21: =IF(M21="","",LOOKUP(M21,'Id individual'!$A$1:$D$706)) -> 0 | O21: 1 | P21: =IF(O21="","",LOOKUP(O21,'Id individual'!$E$1:$G$706)) -> 0 | Q21: =P21+N21+L21 -> 0
A22: 11 | E22: =IF(B22="","",$E$6) | F22: =IF(E22="","",$E$7) | G22: =IF(K22="","",IF(K22=1,"",LOOKUP(K22,'Id individual'!$A$1:$B$706))) | H22: =IF(N22="","",IF(N22=1,"",LOOKUP(M22,'Id individual'!$A$1:$B$706))) -> 0 | I22: =IF(P22="","",IF(O22=1,"",LOOKUP(O22,'Id individual'!$E$1:$F$706))) | J22: =IF(Q22=0,"",Q22) | K22: 1 | L22: =IF(K22="","",LOOKUP(K22,'Id individual'!$A$1:$C$706)) -> 0 | M22: 1 | N22: =IF(M22="","",LOOKUP(M22,'Id individual'!$A$1:$D$706)) -> 0 | O22: 1 | P22: =IF(O22="","",LOOKUP(O22,'Id individual'!$E$1:$G$706)) -> 0 | Q22: =P22+N22+L22 -> 0
A23: 12 | E23: =IF(B23="","",$E$6) | F23: =IF(E23="","",$E$7) | G23: =IF(K23="","",IF(K23=1,"",LOOKUP(K23,'Id individual'!$A$1:$B$706))) | H23: =IF(N23="","",IF(N23=1,"",LOOKUP(M23,'Id individual'!$A$1:$B$706))) -> 0 | I23: =IF(P23="","",IF(O23=1,"",LOOKUP(O23,'Id individual'!$E$1:$F$706))) | J23: =IF(Q23=0,"",Q23) | K23: 1 | L23: =IF(K23="","",LOOKUP(K23,'Id individual'!$A$1:$C$706)) -> 0 | M23: 1 | N23: =IF(M23="","",LOOKUP(M23,'Id individual'!$A$1:$D$706)) -> 0 | O23: 1 | P23: =IF(O23="","",LOOKUP(O23,'Id individual'!$E$1:$G$706)) -> 0 | Q23: =P23+N23+L23 -> 0
... A51: 40 | E51: =IF(B51="","",$E$6) | F51: =IF(E51="","",$E$7) | G51: =IF(K51="","",IF(K51=1,"",LOOKUP(K51,'Id individual'!$A$1:$B$706))) | H51: =IF(N51="","",IF(N51=1,"",LOOKUP(M51,'Id individual'!$A$1:$B$706))) -> 0 | I51: =IF(P51="","",IF(O51=1,"",LOOKUP(O51,'Id individual'!$E$1:$F$706))) | J51: =IF(Q51=0,"",Q51) | K51: 1 | L51: =IF(K51="","",LOOKUP(K51,'Id individual'!$A$1:$C$706)) -> 0 | M51: 1 | N51: =IF(M51="","",LOOKUP(M51,'Id individual'!$A$1:$D$706)) -> 0 | O51: 1 | P51: =IF(O51="","",LOOKUP(O51,'Id individual'!$E$1:$G$706)) -> 0 | Q51: =P51+N51+L51 -> 0
P52: =IF(O52="","",LOOKUP(O52,'Id individual'!$E$1:$G$706))
P53: =IF(O53="","",LOOKUP(O53,'Id individual'!$E$1:$G$706))
P54: =IF(O54="","",LOOKUP(O54,'Id individual'!$E$1:$G$706))
P55: =IF(O55="","",LOOKUP(O55,'Id individual'!$E$1:$G$706))
P56: =IF(O56="","",LOOKUP(O56,'Id individual'!$E$1:$G$706))
P57: =IF(O57="","",LOOKUP(O57,'Id individual'!$E$1:$G$706))
P58: =IF(O58="","",LOOKUP(O58,'Id individual'!$E$1:$G$706))
P59: =IF(O59="","",LOOKUP(O59,'Id individual'!$E$1:$G$706))

Sheet Inscripción Equipos
A1: XV OPEN INTERNACIONAL AREQUIPA 2026
A2: 8 AL 11 DE OCTUBRE DE 2026
A3: Inscripción Equipos
J4: =SUM(J7:J16) -> 0
B5: NOMBRE EQUIPO | C5: JUGADOR 1 | D5: JUGADOR 2 | E5: JUGADOR 3 | F5: JUGADOR 4 | G5: Categoría | H5: S/ | I5: Categoría | J5: Costo S/ | K5: id
A6: No escriba todo en mayúsculas. | K6: 1
A7: 1 | G7: =IF(K7="","",IF(K7=1,"",LOOKUP(K7,'Id Equipos'!$A$1:$B$703))) | H7: =IF(K7="","",IF(K7=1,"",LOOKUP(K7,'Id Equipos'!$A$1:$C$703))) | J7: =H7 | K7: 1 | L7: 1 | AC7: 9
A8: 2 | G8: =IF(K8="","",IF(K8=1,"",LOOKUP(K8,'Id Equipos'!$A$1:$B$703))) | H8: =IF(K8="","",IF(K8=1,"",LOOKUP(K8,'Id Equipos'!$A$1:$C$703))) | J8: =H8 | K8: 1 | L8: 1 | AC8: 9
A9: 3 | G9: =IF(K9="","",IF(K9=1,"",LOOKUP(K9,'Id Equipos'!$A$1:$B$703))) | H9: =IF(K9="","",IF(K9=1,"",LOOKUP(K9,'Id Equipos'!$A$1:$C$703))) | J9: =H9 | K9: 1 | L9: 1 | AC9: 9
A10: 4 | G10: =IF(K10="","",IF(K10=1,"",LOOKUP(K10,'Id Equipos'!$A$1:$B$703))) | H10: =IF(K10="","",IF(K10=1,"",LOOKUP(K10,'Id Equipos'!$A$1:$C$703))) | J10: =H10 | K10: 1 | L10: 1 | AC10: 9
A11: 5 | G11: =IF(K11="","",IF(K11=1,"",LOOKUP(K11,'Id Equipos'!$A$1:$B$703))) | H11: =IF(K11="","",IF(K11=1,"",LOOKUP(K11,'Id Equipos'!$A$1:$C$703))) | J11: =H11 | K11: 1 | L11: 1 | AC11: 9
A12: 6 | G12: =IF(K12="","",IF(K12=1,"",LOOKUP(K12,'Id Equipos'!$A$1:$B$703))) | H12: =IF(K12="","",IF(K12=1,"",LOOKUP(K12,'Id Equipos'!$A$1:$C$703))) | J12: =H12 | K12: 1 | L12: 1 | AC12: 9
A13: 7 | G13: =IF(K13="","",IF(K13=1,"",LOOKUP(K13,'Id Equipos'!$A$1:$B$703))) | H13: =IF(K13="","",IF(K13=1,"",LOOKUP(K13,'Id Equipos'!$A$1:$C$703))) | J13: =H13 | K13: 1 | L13: 1 | AC13: 9
A14: 8 | G14: =IF(K14="","",IF(K14=1,"",LOOKUP(K14,'Id Equipos'!$A$1:$B$703))) | H14: =IF(K14="","",IF(K14=1,"",LOOKUP(K14,'Id Equipos'!$A$1:$C$703))) | J14: =H14 | K14: 1 | L14: 1 | AC14: 9
A15: 9 | G15: =IF(K15="","",IF(K15=1,"",LOOKUP(K15,'Id Equipos'!$A$1:$B$703))) | H15: =IF(K15="","",IF(K15=1,"",LOOKUP(K15,'Id Equipos'!$A$1:$C$703))) | J15: =H15 | K15: 1 | L15: 1 | AC15: 9
A16: 10 | G16: =IF(K16="","",IF(K16=1,"",LOOKUP(K16,'Id Equipos'!$A$1:$B$703))) | H16: =IF(K16="","",IF(K16=1,"",LOOKUP(K16,'Id Equipos'!$A$1:$C$703))) | J16: =H16 | K16: 1 | L16: 1 | AC16: 9
K17: 1
K18: 1
K19: 1
K20: 1
K21: 1
K22: 1
K23: 1
K24: 1
K25: 1
K26: 1

Sheet Inscripción Dobles
A1: XV OPEN INTERNACIONAL AREQUIPA 2026
A2: 8 AL 11 DE OCTUBRE DE 2026
A3: Inscripción Dobles y Dobles Mixtos
I4: =SUM(I7:I21) -> 0
B5: JUGADOR 1 | C5: Club / Asociación | D5: JUGADOR 2 | E5: Club / Asociación | F5: Categoría | G5: S/ | H5: Categoría | I5: Costo S/ | J5: id
A6: No escriba todo en mayúsculas. Si la pareja está formada por jugadores de distintas asociaciones sobreescriba la casilla Club / Asociación | J6: 1
A7: 1 | C7: =IF(B7="","",'Inscripción Individual'!$E$6) | E7: =IF(D7="","",'Inscripción Individual'!$E$6) | F7: =IF(J7="","",IF(J7=1,"",LOOKUP(J7,'Id Dobles'!$A$1:$B$702))) | G7: =IF(J7="","",IF(J7=1,"",LOOKUP(J7,'Id Dobles'!$A$1:$C$702))) | I7: =G7 | J7: 1 | K7: 1
A8: 2 | C8: =IF(B8="","",'Inscripción Individual'!$E$6) | E8: =IF(D8="","",'Inscripción Individual'!$E$6) | F8: =IF(J8="","",IF(J8=1,"",LOOKUP(J8,'Id Dobles'!$A$1:$B$702))) | G8: =IF(J8="","",IF(J8=1,"",LOOKUP(J8,'Id Dobles'!$A$1:$C$702))) | I8: =G8 | J8: 1 | K8: 1
A9: 3 | C9: =IF(B9="","",'Inscripción Individual'!$E$6) | E9: =IF(D9="","",'Inscripción Individual'!$E$6) | F9: =IF(J9="","",IF(J9=1,"",LOOKUP(J9,'Id Dobles'!$A$1:$B$702))) | G9: =IF(J9="","",IF(J9=1,"",LOOKUP(J9,'Id Dobles'!$A$1:$C$702))) | I9: =G9 | J9: 1 | K9: 1
A10: 4 | C10: =IF(B10="","",'Inscripción Individual'!$E$6) | E10: =IF(D10="","",'Inscripción Individual'!$E$6) | F10: =IF(J10="","",IF(J10=1,"",LOOKUP(J10,'Id Dobles'!$A$1:$B$702))) | G10: =IF(J10="","",IF(J10=1,"",LOOKUP(J10,'Id Dobles'!$A$1:$C$702))) | I10: =G10 | J10: 1 | K10: 1
A11: 5 | C11: =IF(B11="","",'Inscripción Individual'!$E$6) | E11: =IF(D11="","",'Inscripción Individual'!$E$6) | F11: =IF(J11="","",IF(J11=1,"",LOOKUP(J11,'Id Dobles'!$A$1:$B$702))) | G11: =IF(J11="","",IF(J11=1,"",LOOKUP(J11,'Id Dobles'!$A$1:$C$702))) | I11: =G11 | J11: 1 | K11: 1
A12: 6 | C12: =IF(B12="","",'Inscripción Individual'!$E$6) | E12: =IF(D12="","",'Inscripción Individual'!$E$6) | F12: =IF(J12="","",IF(J12=1,"",LOOKUP(J12,'Id Dobles'!$A$1:$B$702))) | G12: =IF(J12="","",IF(J12=1,"",LOOKUP(J12,'Id Dobles'!$A$1:$C$702))) | I12: =G12 | J12: 1 | K12: 1
A13: 7 | C13: =IF(B13="","",'Inscripción Individual'!$E$6) | E13: =IF(D13="","",'Inscripción Individual'!$E$6) | F13: =IF(J13="","",IF(J13=1,"",LOOKUP(J13,'Id Dobles'!$A$1:$B$702))) | G13: =IF(J13="","",IF(J13=1,"",LOOKUP(J13,'Id Dobles'!$A$1:$C$702))) | I13: =G13 | J13: 1 | K13: 1
A14: 8 | C14: =IF(B14="","",'Inscripción Individual'!$E$6) | E14: =IF(D14="","",'Inscripción Individual'!$E$6) | F14: =IF(J14="","",IF(J14=1,"",LOOKUP(J14,'Id Dobles'!$A$1:$B$702))) | G14: =IF(J14="","",IF(J14=1,"",LOOKUP(J14,'Id Dobles'!$A$1:$C$702))) | I14: =G14 | J14: 1 | K14: 1
A15: 9 | C15: =IF(B15="","",'Inscripción Individual'!$E$6) | E15: =IF(D15="","",'Inscripción Individual'!$E$6) | F15: =IF(J15="","",IF(J15=1,"",LOOKUP(J15,'Id Dobles'!$A$1:$B$702))) | G15: =IF(J15="","",IF(J15=1,"",LOOKUP(J15,'Id Dobles'!$A$1:$C$702))) | I15: =G15 | J15: 1 | K15: 1
A16: 10 | C16: =IF(B16="","",'Inscripción Individual'!$E$6) | E16: =IF(D16="","",'Inscripción Individual'!$E$6) | F16: =IF(J16="","",IF(J16=1,"",LOOKUP(J16,'Id Dobles'!$A$1:$B$702))) | G16: =IF(J16="","",IF(J16=1,"",LOOKUP(J16,'Id Dobles'!$A$1:$C$702))) | I16: =G16 | J16: 1 | K16: 1
A17: 11 | C17: =IF(B17="","",'Inscripción Individual'!$E$6) | E17: =IF(D17="","",'Inscripción Individual'!$E$6) | F17: =IF(J17="","",IF(J17=1,"",LOOKUP(J17,'Id Dobles'!$A$1:$B$702))) | G17: =IF(J17="","",IF(J17=1,"",LOOKUP(J17,'Id Dobles'!$A$1:$C$702))) | I17: =G17 | J17: 1 | K17: 1
A18: 12 | C18: =IF(B18="","",'Inscripción Individual'!$E$6) | E18: =IF(D18="","",'Inscripción Individual'!$E$6) | F18: =IF(J18="","",IF(J18=1,"",LOOKUP(J18,'Id Dobles'!$A$1:$B$702))) | G18: =IF(J18="","",IF(J18=1,"",LOOKUP(J18,'Id Dobles'!$A$1:$C$702))) | I18: =G18 | J18: 1 | K18: 1
... A21: 15 | C21: =IF(B21="","",'Inscripción Individual'!$E$6) | E21: =IF(D21="","",'Inscripción Individual'!$E$6) | F21: =IF(J21="","",IF(J21=1,"",LOOKUP(J21,'Id Dobles'!$A$1:$B$702))) | G21: =IF(J21="","",IF(J21=1,"",LOOKUP(J21,'Id Dobles'!$A$1:$C$702))) | I21: =G21 | J21: 1 | K21: 1
J22: 1
J23: 1
J24: 1
J25: 1
J26: 1
J27: 1
J28: 1
J29: 1
J30: 1
J31: 1
J32: 1
J33: 1
... J36: 1

Sheet Id individual
A2: 1
A3: 2 | B3: IV07 | C3: 90 | D3: A | E3: 1
A4: 3 | B4: IV09 | C4: 90 | D4: 70 | E4: 2 | F4: IV00 | G4: 90
A5: 4 | B5: IV11 | C5: 90 | D5: 70 | E5: 3 | F5: ID00 | G5: 90
A6: 5 | B6: IV13 | C6: 90 | D6: 70
A7: 6 | B7: IV15 | C7: 90 | D7: 70
A8: 7 | B8: IV17 | C8: 90 | D8: 70
A9: 8 | B9: IV19 | C9: 90 | D9: 70
A10: 9 | B10: IV20 | C10: 90 | D10: 70
A11: 10 | B11: IV30 | C11: 90 | D11: 70
A12: 11 | B12: IV40 | C12: 90 | D12: 70
A13: 12 | B13: IV50 | C13: 90 | D13: 70
A14: 13 | B14: IV60 | C14: 90 | D14: 70
A15: 14 | B15: IV70 | C15: 90 | D15: 70
A16: 15 | B16: IV80 | C16: 90 | D16: A
A17: 16 | B17: LUV | C17: 90 | D17: 90
A18: 17 | B18: PTTMx | C18: 90 | D18: 70
A19: 18 | B19: ID07 | C19: 90 | D19: A
A20: 19 | B20: ID09 | C20: 90 | D20: 70
A21: 20 | B21: ID11 | C21: 90 | D21: 70
A22: 21 | B22: ID13 | C22: 90 | D22: 70
A23: 22 | B23: ID15 | C23: 90 | D23: 70
A24: 23 | B24: ID17 | C24: 90 | D24: 70
A25: 24 | B25: ID19 | C25: 90 | D25: 70
A26: 25 | B26: ID20 | C26: 90 | D26: 70
A27: 26 | B27: ID30 | C27: 90 | D27: 70
A28: 27 | B28: ID40 | C28: 90 | D28: 70
A29: 28 | B29: ID50 | C29: 90 | D29: 70
A30: 29 | B30: ID60 | C30: 90 | D30: 70
A31: 30 | B31: ID70 | C31: 90 | D31: 70
A32: 31 | B32: ID80 | C32: 90 | D32: A
A33: 32 | B33: LUD | C33: 90 | D33: 90
A34: 33
A35: 34
A36: 35

Sheet Id Equipos
A2: 1
A3: 2 | B3: EV13 | C3: 90 | E3: 1
A4: 3 | B4: ED13 | C4: 90 | E4: 2 | F4: IV00 | G4: 80
A5: 4 | B5: EV19 | C5: 90 | E5: 3 | F5: ID00 | G5: 80
A6: 5 | B6: ED19 | C6: 90
A7: 6 | B7: EV40 | C7: 90
A8: 7 | B8: ED40 | C8: 90
A9: 8 | B9: EV00 | C9: 90
A10: 9 | B10: ED00 | C10: 90
A11: 10
A12: 11
A13: 12
A14: 13
A15: 14
A16: 15
A17: 16
A18: 17
A19: 18
A20: 19
A21: 20
A22: 21
... A33: 32

Sheet Id Dobles
A2: 1
A3: 2 | B3: DV09 | C3: 80 | E3: 1
A4: 3 | B4: DV11 | C4: 80 | E4: 2 | F4: IV00 | G4: 80
A5: 4 | B5: DV13 | C5: 80 | E5: 3 | F5: ID00 | G5: 80
A6: 5 | B6: DV15 | C6: 80
A7: 6 | B7: DV19 | C7: 80
A8: 7 | B8: DV20 | C8: 80
A9: 8 | B9: DV30 | C9: 80
A10: 9 | B10: DV40 | C10: 80
A11: 10 | B11: DV50 | C11: 80
A12: 11 | B12: DV00 | C12: 80
A13: 12 | B13: DD09 | C13: 80
A14: 13 | B14: DD11 | C14: 80
A15: 14 | B15: DD13 | C15: 80
A16: 15 | B16: DD15 | C16: 80
A17: 16 | B17: DD19 | C17: 80
... A26: 25 | B26: DPH | C26: 80
A27: 26
